Workbook

Sheet 封面
A1: 盐边县红宝苗族彝族乡人民政府
A2: 2023年部门预算
A3: 44984

Sheet 表1部门收支总表
E1: 表1
B2: 部门收支总表
B3: 部门：盐边县红宝苗族彝族乡人民政府 | E3: 金额单位：元
B4: 收 入 | D4: 支 出
B5: 项 目 | C5: 预算数 | D5: 项 目 | E5: 预算数
B6: 一、一般公共预算拨款收入 | C6: 12529195 | D6: 一、一般公共服务支出 | E6: 3605211.5
B7: 二、政府性基金预算拨款收入 | D7: 二、外交支出
B8: 三、国有资本经营预算拨款收入 | D8: 三、国防支出
B9: 四、事业收入 | D9: 四、公共安全支出
B10: 五、事业单位经营收入 | D10: 五、教育支出
B11: 六、其他收入 | D11: 六、科学技术支出
D12: 七、文化旅游体育与传媒支出 | E12: 373136.68
D13: 八、社会保障和就业支出 | E13: 1391143.1
D14: 九、社会保险基金支出
D15: 十、卫生健康支出 | E15: 636958.13
D16: 十一、节能环保支出
D17: 十二、城乡社区支出
D18: 十三、农林水支出 | E18: 5917491.4
D19: 十四、交通运输支出
D20: 十五、资源勘探工业信息等支出
D21: 十六、商业服务业等支出
D22: 十七、金融支出
D23: 十八、援助其他地区支出
D24: 十九、自然资源海洋气象等支出
D25: 二十、住房保障支出 | E25: 605254.24
D26: 二十一、粮油物资储备支出
D27: 二十二、国有资本经营预算支出
D28: 二十三、灾害防治及应急管理支出
D29: 二十四、预备费
D30: 二十五、其他支出
D31: 二十六、转移性支出
D32: 二十七、债务还本支出
D33: 二十八、债务付息支出
D34: 二十九、债务发行费用支出
D35: 三十、抗疫特别国债安排的支出
B36: 本 年 收 入 合 计 | C36: =E36 -> 12529195 | D36: 本 年 支 出 合 计 | E36: =SUM(E6:E35) -> 12529195
B37: 七、用事业基金弥补收支差额 | D37: 三十一、事业单位结余分配
B38: 八、上年结转 | D38: 其中：转入事业基金
D39: 三十二、结转下年
B40: 收 入 总 计 | C40: =C36+C37+C38 -> 12529195 | D40: 支 出 总 计 | E40: =E36 -> 12529195

Sheet 表1-1部门收入总表
N1: 表1-1
B2: 部门收入总表
B3: 部门： | N3: 金额单位：元
B4: 项 目 | D4: 合计 | E4: 上年结转 | F4: 一般公共预算拨款收入 | G4: 政府性基金预算拨款收入 | H4: 国有资本经营预算拨款收入 | I4: 事业收入 | J4: 事业单位经营收入 | K4: 其他收入 | L4: 上级补助收入 | M4: 附属单位上缴收入 | N4: 用事业基金弥补收支差额
B5: 单位代码 | C5: 单位名称（科目）
C7: 合 计 | D7: =D8 -> 12529195 | E7: =E8 -> 0 | F7: =F8 -> 12529195
D8: =E8+F8 -> 12529195 | E8: =E9 -> 0 | F8: =F9 -> 12529195
B9: 800020 | C9: 盐边县红宝苗族彝族乡人民政府 | D9: =E9+F9 -> 12529195 | E9: =表1部门收支总表!C38 -> 0 | F9: =表1部门收支总表!C36 -> 12529195

Sheet 表1-2部门支出总表
K1: 表1-2
B2: 部门支出总表
B3: 部门： | K3: 金额单位：元
B4: 项 目 | G4: 合计 | H4: 基本支出 | I4: 项目支出 | J4: 上缴上级支出 | K4: 对附属单位补助支出
B5: 科目编码 | E5: 单位代码 | F5: 单位名称（科目）
B6: 类 | C6: 款 | D6: 项
F7: 合 计 | G7: =G8 -> 12529195 | H7: =H8 -> 9001222.9 | I7: =I8 -> 3527972
G8: =G9 -> 12529195 | H8: =H9 -> 9001222.9 | I8: =I9 -> 3527972
E9: 800020 | F9: 盐边县红宝苗族彝族乡人民政府 | G9: =SUM(G10:G33) -> 12529195 | H9: =SUM(H10:H33) -> 9001222.9 | I9: =SUM(I10:I33) -> 3527972
B10: 207 | C10: 01 | D10: 09 | E10: 800020 | F10: 群众文化 | G10: =H10+I10 -> 373136.68 | H10: 373136.68
B11: 208 | C11: 05 | D11: 05 | E11: 800020 | F11: 机关事业单位基本养老保险缴费支出 | G11: =H11+I11 -> 689826.7 | H11: 689826.7
B12: 213 | C12: 01 | D12: 04 | E12: 800020 | F12: 事业运行 | G12: =H12+I12 -> 1219295.4 | H12: 1219295.4
B13: 210 | C13: 11 | D13: 99 | E13: 800020 | F13: 其他行政事业单位医疗支出 | G13: =H13+I13 -> 210477.61 | H13: 210477.61
B14: 201 | C14: 03 | D14: 50 | E14: 800020 | F14: 事业运行 | G14: =H14+I14 -> 461525.05 | H14: 461525.05
B15: 201 | C15: 01 | D15: 01 | E15: 800020 | F15: 行政运行 | G15: =H15+I15 -> 534056.01 | H15: 534056.01
B16: 208 | C16: 01 | D16: 99 | E16: 800020 | F16: 其他人力资源和社会保障管理事务支出 | G16: =H16+I16 -> 206886.05 | H16: 206886.05
B17: 208 | C17: 01 | D17: 09 | E17: 800020 | F17: 社会保险经办机构 | G17: =H17+I17 -> 348517.05 | H17: 348517.05
B18: 201 | C18: 03 | D18: 01 | E18: 800020 | F18: 行政运行 | G18: =H18+I18 -> 2104635.7 | H18: 2104635.7
B19: 213 | C19: 99 | D19: 99 | E19: 800020 | F19: 其他农林水支出 | G19: =H19+I19 -> 3000000 | I19: 3000000
B20: 213 | C20: 07 | D20: 05 | E20: 800020 | F20: 对村民委员会和村党支部的补助 | G20: =H20+I20 -> 1698196 | H20: 1298196 | I20: 400000
B21: 221 | C21: 02 | D21: 01 | E21: 800020 | F21: 住房公积金 | G21: =H21+I21 -> 605254.24 | H21: 605254.24
B22: 208 | C22: 05 | D22: 02 | E22: 800020 | F22: 事业单位离退休 | G22: =H22+I22 -> 39074.57 | H22: 39074.57
B23: 201 | C23: 23 | D23: 04 | E23: 800020 | F23: 民族工作专项 | G23: =H23+I23 -> 13915 | I23: 13915
B24: 201 | C24: 01 | D24: 04 | E24: 800020 | F24: 人大会议 | G24: =H24+I24 -> 31850 | I24: 31850
B25: 208 | C25: 02 | D25: 08 | E25: 800020 | F25: 基层政权建设和社区治理 | G25: =H25+I25 -> 30000 | I25: 30000
B26: 210 | C26: 04 | D26: 99 | E26: 800020 | F26: 其他公共卫生支出 | G26: =H26+I26 -> 18005 | I26: 18005
B27: 210 | C27: 11 | D27: 02 | E27: 800020 | F27: 事业单位医疗 | G27: =H27+I27 -> 179257.52 | H27: 179257.52
B28: 201 | C28: 31 | D28: 01 | E28: 800020 | F28: 行政运行 | G28: =H28+I28 -> 452027.71 | H28: 452027.71
B29: 210 | C29: 11 | D29: 01 | E29: 800020 | F29: 行政单位医疗 | G29: =H29+I29 -> 214018 | H29: 214018
B30: 210 | C30: 11 | D30: 03 | E30: 800020 | F30: 公务员医疗补助 | G30: =H30+I30 -> 15200 | H30: 15200
B31: 208 | C31: 05 | D31: 01 | E31: 800020 | F31: 行政单位离退休 | G31: =H31+I31 -> 49838.68 | H31: 49838.68
B32: 208 | C32: 21 | D32: 02 | E32: 800020 | F32: 农村特困人员救助供养支出 | G32: =H32+I32 -> 27000 | I32: 27000
B33: 201 | C33: 03 | D33: 02 | E33: 800020 | F33: 一般行政管理事务 | G33: =H33+I33 -> 7202 | I33: 7202

Sheet 表2财政拨款收支预算总表
H1: 表2
B2: 财政拨款收支预算总表
B3: 部门： | H3: 金额单位：元
B4: 收 入 | D4: 支 出
B5: 项 目 | C5: 预算数 | D5: 项 目 | E5: 合计 | F5: 一般公共预算 | G5: 政府性基金预算 | H5: 国有资本经营预算
B6: 一、本年收入 | C6: =C7 -> 12529195 | D6: 一、本年支出 | E6: =SUM(E7:E34) -> 12529195 | F6: =SUM(F7:F34) -> 12529195
B7: 一般公共预算拨款收入 | C7: =表1部门收支总表!C6 -> 12529195 | D7: 一般公共服务支出 | E7: =F7 -> 3605211.5 | F7: =表1部门收支总表!E6 -> 3605211.5
B8: 政府性基金预算拨款收入 | D8: 外交支出
B9: 国有资本经营预算拨款收入 | D9: 国防支出
B10: 一、上年结转 | C10: =C11 -> 0 | D10: 公共安全支出
B11: 一般公共预算拨款收入 | D11: 教育支出
B12: 政府性基金预算拨款收入 | D12: 科学技术支出
B13: 国有资本经营预算拨款收入 | D13: 文化旅游体育与传媒支出 | E13: =F13 -> 373136.68 | F13: =表1部门收支总表!E12 -> 373136.68
D14: 社会保障和就业支出 | E14: =F14 -> 1391143.1 | F14: =表1部门收支总表!E13 -> 1391143.1
D15: 社会保险基金支出
D16: 卫生健康支出 | E16: =F16 -> 636958.13 | F16: =表1部门收支总表!E15 -> 636958.13
D17: 节能环保支出
D18: 城乡社区支出
D19: 农林水支出 | E19: =F19 -> 5917491.4 | F19: =表1部门收支总表!E18 -> 5917491.4
D20: 交通运输支出
D21: 资源勘探工业信息等支出
D22: 商业服务业等支出
D23: 金融支出
D24: 援助其他地区支出
D25: 自然资源海洋气象等支出
D26: 住房保障支出 | E26: =F26 -> 605254.24 | F26: =表1部门收支总表!E25 -> 605254.24
D27: 粮油物资储备支出
D28: 国有资本经营预算支出
D29: 灾害防治及应急管理支出
D30: 其他支出
D31: 债务还本支出
D32: 债务付息支出
D33: 债务发行费用支出
D34: 抗疫特别国债安排的支出

Sheet 表2-1财政拨款支出预算表（部门经济分类科目）
AM1: 表2-1
B2: 财政拨款支出预算表（部门经济分类科目）
B3: 部门： | AL3: 金额单位：元
B4: 项 目 | F4: 总计 | G4: 省级当年财政拨款安排 | Q4: 中央提前通知专项转移支付等 | AA4: 上年结转安排
B5: 科目编码 | D5: 单位代码 | E5: 单位名称（科目） | G5: 合计 | H5: 一般公共预算拨款 | K5: 政府性基金安排 | N5: 国有资本经营预算安排 | Q5: 合计 | R5: 一般公共预算拨款 | U5: 政府性基金安排 | X5: 国有资本经营预算安排 | AA5: 合计 | AB5: 一般公共预算拨款 | AE5: 政府性基金安排 | AH5: 国有资本经营预算安排 | AK5: 上年应返还额度结转
B6: 类 | C6: 款 | H6: 小计 | I6: 基本支出 | J6: 项目支出 | K6: 小计 | L6: 基本支出 | M6: 项目支出 | N6: 小计 | O6: 基本支出 | P6: 项目支出 | R6: 小计 | S6: 基本支出 | T6: 项目支出 | U6: 小计 | V6: 基本支出 | W6: 项目支出 | X6: 小计 | Y6: 基本支出 | Z6: 项目支出 | AB6: 小计 | AC6: 基本支出 | AD6: 项目支出 | AE6: 小计 | AF6: 基本支出 | AG6: 项目支出 | AH6: 小计 | AI6: 基本支出 | AJ6: 项目支出 | AK6: 小计 | AL6: 基本支出 | AM6: 项目支出
E7: 合 计 | F7: =G7+Q7+AA7 -> 12529195 | G7: =H7 -> 12529195 | H7: =I7+J7 -> 12529195 | I7: =I8 -> 9001222.9 | J7: =J8 -> 3527972
F8: =F7 -> 12529195 | G8: =H8 -> 12529195 | H8: =I8+J8 -> 12529195 | I8: =I9 -> 9001222.9 | J8: =J9 -> 3527972
D9: 800020 | E9: 盐边县红宝苗族彝族乡人民政府 | F9: =F8 -> 12529195 | G9: =H9 -> 12529195 | H9: =I9+J9 -> 12529195 | I9: =I10+I26+I38 -> 9001222.9 | J9: =J10+J26+J38 -> 3527972
B10: 302 | D10: 800020 | E10: 商品和服务支出 | F10: =G10 -> 4453786.7 | G10: =H10 -> 4453786.7 | H10: =I10+J10 -> 4453786.7 | I10: =SUM(I11:I25) -> 952814.7 | J10: =SUM(J11:J25) -> 3500972
B11: 302 | C11: 07 | D11: 800020 | E11: 邮电费 | F11: =G11 -> 14800 | G11: =H11 -> 14800 | H11: =I11+J11 -> 14800 | I11: 14800
B12: 302 | C12: 29 | D12: 800020 | E12: 福利费 | F12: =G12 -> 42724.08 | G12: =H12 -> 42724.08 | H12: =I12+J12 -> 42724.08 | I12: 42724.08
B13: 302 | C13: 06 | D13: 800020 | E13: 电费 | F13: =G13 -> 22200 | G13: =H13 -> 22200 | H13: =I13+J13 -> 22200 | I13: 22200
B14: 302 | C14: 01 | D14: 800020 | E14: 办公费 | F14: =G14 -> 291000 | G14: =H14 -> 291000 | H14: =I14+J14 -> 291000 | I14: 291000
B15: 302 | C15: 05 | D15: 800020 | E15: 水费 | F15: =G15 -> 14800 | G15: =H15 -> 14800 | H15: =I15+J15 -> 14800 | I15: 14800
B16: 302 | C16: 28 | D16: 800020 | E16: 工会经费 | F16: =G16 -> 89490.62 | G16: =H16 -> 89490.62 | H16: =I16+J16 -> 89490.62 | I16: 89490.62
B17: 302 | C17: 11 | D17: 800020 | E17: 差旅费 | F17: =G17 -> 111000 | G17: =H17 -> 111000 | H17: =I17+J17 -> 111000 | I17: 111000
B18: 302 | C18: 99 | D18: 800020 | E18: 其他商品和服务支出 | F18: =G18 -> 3484122 | G18: =H18 -> 3484122 | H18: =I18+J18 -> 3484122 | I18: 15000 | J18: 3469122
B19: 302 | C19: 15 | D19: 800020 | E19: 会议费 | F19: =G19 -> 49650 | G19: =H19 -> 49650 | H19: =I19+J19 -> 49650 | I19: 17800 | J19: 31850
B20: 302 | C20: 31 | D20: 800020 | E20: 公务用车运行维护费 | F20: =G20 -> 64700 | G20: =H20 -> 64700 | H20: =I20+J20 -> 64700 | I20: 64700
B21: 302 | C21: 26 | D21: 800020 | E21: 劳务费 | F21: =G21 -> 63400 | G21: =H21 -> 63400 | H21: =I21+J21 -> 63400 | I21: 63400
B22: 302 | C22: 13 | D22: 800020 | E22: 维修（护）费 | F22: =G22 -> 1200 | G22: =H22 -> 1200 | H22: =I22+J22 -> 1200 | I22: 1200
B23: 302 | C23: 39 | D23: 800020 | E23: 其他交通费用 | F23: =G23 -> 189700 | G23: =H23 -> 189700 | H23: =I23+J23 -> 189700 | I23: 189700
B24: 302 | C24: 27 | D24: 800020 | E24: 委托业务费 | F24: =G24 -> 10000 | G24: =H24 -> 10000 | H24: =I24+J24 -> 10000 | I24: 10000
B25: 302 | C25: 17 | D25: 800020 | E25: 公务接待费 | F25: =G25 -> 5000 | G25: =H25 -> 5000 | H25: =I25+J25 -> 5000 | I25: 5000
B26: 301 | D26: 800020 | E26: 工资福利支出 | F26: =G26 -> 6783816.7 | G26: =H26 -> 6783816.7 | H26: =I26+J26 -> 6783816.7 | I26: =SUM(I27:I37) -> 6783816.7
B27: 301 | C27: 08 | D27: 800020 | E27: 机关事业单位基本养老保险缴费 | F27: =G27 -> 689826.7 | G27: =H27 -> 689826.7 | H27: =I27+J27 -> 689826.7 | I27: 689826.7
B28: 301 | C28: 01 | D28: 800020 | E28: 基本工资 | F28: =G28 -> 1505532 | G28: =H28 -> 1505532 | H28: =I28+J28 -> 1505532 | I28: 1505532
B29: 301 | C29: 11 | D29: 800020 | E29: 公务员医疗补助缴费 | F29: =G29 -> 211277.61 | G29: =H29 -> 211277.61 | H29: =I29+J29 -> 211277.61 | I29: 211277.61
B30: 301 | C30: 03 | D30: 800020 | E30: 奖金 | F30: =G30 -> 720038 | G30: =H30 -> 720038 | H30: =I30+J30 -> 720038 | I30: 720038
B31: 301 | C31: 02 | D31: 800020 | E31: 津贴补贴 | F31: =G31 -> 987984 | G31: =H31 -> 987984 | H31: =I31+J31 -> 987984 | I31: 987984
B32: 301 | C32: 12 | D32: 800020 | E32: 其他社会保障缴费 | F32: =G32 -> 27691.5 | G32: =H32 -> 27691.5 | H32: =I32+J32 -> 27691.5 | I32: 27691.5
B33: 301 | C33: 99 | D33: 800020 | E33: 其他工资福利支出 | F33: =G33 -> 363720 | G33: =H33 -> 363720 | H33: =I33+J33 -> 363720 | I33: 363720
B34: 301 | C34: 13 | D34: 800020 | E34: 住房公积金 | F34: =G34 -> 605254.24 | G34: =H34 -> 605254.24 | H34: =I34+J34 -> 605254.24 | I34: 605254.24
B35: 301 | C35: 07 | D35: 800020 | E35: 绩效工资 | F35: =G35 -> 1264817.1 | G35: =H35 -> 1264817.1 | H35: =I35+J35 -> 1264817.1 | I35: 1264817.1
B36: 301 | C36: 10 | D36: 800020 | E36: 职工基本医疗保险缴费 | F36: =G36 -> 393275.52 | G36: =H36 -> 393275.52 | H36: =I36+J36 -> 393275.52 | I36: 393275.52
B37: 301 | C37: 14 | D37: 800020 | E37: 医疗费 | F37: =G37 -> 14400 | G37: =H37 -> 14400 | H37: =I37+J37 -> 14400 | I37: 14400
B38: 303 | D38: 800020 | E38: 对个人和家庭的补助 | F38: =G38 -> 1291591.5 | G38: =H38 -> 1291591.5 | H38: =I38+J38 -> 1291591.5 | I38: =SUM(I39:I41) -> 1264591.5 | J38: =SUM(J39:J41) -> 27000
B39: 303 | C39: 07 | D39: 800020 | E39: 医疗费补助 | F39: =G39 -> 63785.25 | G39: =H39 -> 63785.25 | H39: =I39+J39 -> 63785.25 | I39: 63785.25
B40: 303 | C40: 09 | D40: 800020 | E40: 奖励金 | F40: =G40 -> 360 | G40: =H40 -> 360 | H40: =I40+J40 -> 360 | I40: 360
...

Sheet 表3一般公共预算支出预算表
G1: 表3
B2: 一般公共预算支出预算表
B3: 部门： | I3: 金额单位：元
B4: 项 目 | G4: 合计 | H4: 当年财政拨款安排 | I4: 上年结转安排
B5: 科目编码 | E5: 单位代码 | F5: 单位名称（科目）
B6: 类 | C6: 款 | D6: 项
F7: 合 计 | G7: =G8 -> 12529195 | H7: =H8 -> 12529195 | I7: =I8 -> 0
G8: =G9 -> 12529195 | H8: =H9 -> 12529195 | I8: =I9 -> 0
E9: 800020 | F9: 盐边县红宝苗族彝族乡人民政府 | G9: =SUM(G10:G33) -> 12529195 | H9: =SUM(H10:H33) -> 12529195 | I9: =SUM(I10:I33) -> 0
B10: 207 | C10: 01 | D10: 09 | E10: 800020 | F10: 群众文化 | G10: =H10+I10 -> 373136.68 | H10: 373136.68
B11: 208 | C11: 05 | D11: 05 | E11: 800020 | F11: 机关事业单位基本养老保险缴费支出 | G11: =H11+I11 -> 689826.7 | H11: 689826.7
B12: 213 | C12: 01 | D12: 04 | E12: 800020 | F12: 事业运行 | G12: =H12+I12 -> 1219295.4 | H12: 1219295.4
B13: 210 | C13: 11 | D13: 99 | E13: 800020 | F13: 其他行政事业单位医疗支出 | G13: =H13+I13 -> 210477.61 | H13: 210477.61
B14: 201 | C14: 03 | D14: 50 | E14: 800020 | F14: 事业运行 | G14: =H14+I14 -> 461525.05 | H14: 461525.05
B15: 201 | C15: 01 | D15: 01 | E15: 800020 | F15: 行政运行 | G15: =H15+I15 -> 534056.01 | H15: 534056.01
B16: 208 | C16: 01 | D16: 99 | E16: 800020 | F16: 其他人力资源和社会保障管理事务支出 | G16: =H16+I16 -> 206886.05 | H16: 206886.05
B17: 208 | C17: 01 | D17: 09 | E17: 800020 | F17: 社会保险经办机构 | G17: =H17+I17 -> 348517.05 | H17: 348517.05
B18: 201 | C18: 03 | D18: 01 | E18: 800020 | F18: 行政运行 | G18: =H18+I18 -> 2104635.7 | H18: 2104635.7
B19: 213 | C19: 99 | D19: 99 | E19: 800020 | F19: 其他农林水支出 | G19: =H19+I19 -> 3000000 | H19: 3000000
B20: 213 | C20: 07 | D20: 05 | E20: 800020 | F20: 对村民委员会和村党支部的补助 | G20: =H20+I20 -> 1698196 | H20: 1698196
B21: 221 | C21: 02 | D21: 01 | E21: 800020 | F21: 住房公积金 | G21: =H21+I21 -> 605254.24 | H21: 605254.24
... B33: 201 | C33: 03 | D33: 02 | E33: 800020 | F33: 一般行政管理事务 | G33: =H33+I33 -> 7202 | H33: 7202

Sheet 表3-1一般公共预算基本支出预算表
H1: 表3-1
B2: 一般公共预算基本支出预算表
B3: 部门： | H3: 金额单位：元
B4: 项 目 | F4: 基本支出
B5: 科目编码 | D5: 单位代码 | E5: 单位名称（科目） | F5: 合计 | G5: 人员经费 | H5: 公用经费
B6: 类 | C6: 款
E7: 合 计 | F7: =F8 -> 9001222.9 | G7: =G8 -> 8048408.2 | H7: =H8 -> 952814.7
F8: =F9 -> 9001222.9 | G8: =G9 -> 8048408.2 | H8: =H9 -> 952814.7
D9: 800020 | E9: 盐边县红宝苗族彝族乡人民政府 | F9: =G9+H9 -> 9001222.9 | G9: =G26+G38 -> 8048408.2 | H9: =H10 -> 952814.7
D10: 800020 | E10: 商品和服务支出 | F10: =H10 -> 952814.7 | H10: =SUM(H11:H25) -> 952814.7
B11: 302 | C11: 07 | D11: 800020 | E11: 邮电费 | F11: 14800 | H11: 14800
B12: 302 | C12: 29 | D12: 800020 | E12: 福利费 | F12: 42724.08 | H12: 42724.08
B13: 302 | C13: 06 | D13: 800020 | E13: 电费 | F13: 22200 | H13: 22200
B14: 302 | C14: 01 | D14: 800020 | E14: 办公费 | F14: 291000 | H14: 291000
B15: 302 | C15: 05 | D15: 800020 | E15: 水费 | F15: 14800 | H15: 14800
B16: 302 | C16: 28 | D16: 800020 | E16: 工会经费 | F16: 89490.62 | H16: 89490.62
B17: 302 | C17: 11 | D17: 800020 | E17: 差旅费 | F17: 111000 | H17: 111000
B18: 302 | C18: 99 | D18: 800020 | E18: 其他商品和服务支出 | F18: 15000 | H18: 15000
B19: 302 | C19: 15 | D19: 800020 | E19: 会议费 | F19: 17800 | H19: 17800
B20: 302 | C20: 31 | D20: 800020 | E20: 公务用车运行维护费 | F20: 64700 | H20: 64700
B21: 302 | C21: 26 | D21: 800020 | E21: 劳务费 | F21: 63400 | H21: 63400
B22: 302 | C22: 13 | D22: 800020 | E22: 维修（护）费 | F22: 1200 | H22: 1200
B23: 302 | C23: 39 | D23: 800020 | E23: 其他交通费用 | F23: 189700 | H23: 189700
B24: 302 | C24: 27 | D24: 800020 | E24: 委托业务费 | F24: 10000 | H24: 10000
B25: 302 | C25: 17 | D25: 800020 | E25: 公务接待费 | F25: 5000 | H25: 5000
B26: 301 | D26: 800020 | E26: 工资福利支出 | F26: =G26+H26 -> 6783816.7 | G26: =SUM(G27:G37) -> 6783816.7
B27: 301 | C27: 08 | D27: 800020 | E27: 机关事业单位基本养老保险缴费 | F27: 689826.7 | G27: 689826.7
B28: 301 | C28: 01 | D28: 800020 | E28: 基本工资 | F28: 1505532 | G28: 1505532
B29: 301 | C29: 11 | D29: 800020 | E29: 公务员医疗补助缴费 | F29: 211277.61 | G29: 211277.61
B30: 301 | C30: 03 | D30: 800020 | E30: 奖金 | F30: 720038 | G30: 720038
B31: 301 | C31: 02 | D31: 800020 | E31: 津贴补贴 | F31: 987984 | G31: 987984
B32: 301 | C32: 12 | D32: 800020 | E32: 其他社会保障缴费 | F32: 27691.5 | G32: 27691.5
B33: 301 | C33: 99 | D33: 800020 | E33: 其他工资福利支出 | F33: 363720 | G33: 363720
B34: 301 | C34: 13 | D34: 800020 | E34: 住房公积金 | F34: 605254.24 | G34: 605254.24
B35: 301 | C35: 07 | D35: 800020 | E35: 绩效工资 | F35: 1264817.1 | G35: 1264817.1
B36: 301 | C36: 10 | D36: 800020 | E36: 职工基本医疗保险缴费 | F36: 393275.52 | G36: 393275.52
B37: 301 | C37: 14 | D37: 800020 | E37: 医疗费 | F37: 14400 | G37: 14400
B38: 303 | D38: 800020 | E38: 对个人和家庭的补助 | F38: =SUM(F39:F41) -> 1264591.5 | G38: =SUM(G39:G41) -> 1264591.5
B39: 303 | C39: 07 | D39: 800020 | E39: 医疗费补助 | F39: 63785.25 | G39: 63785.25
B40: 303 | C40: 09 | D40: 800020 | E40: 奖励金 | F40: 360 | G40: 360
...

Sheet 表3-2一般公共预算项目支出预算表
G1: 表3-2
B2: 一般公共预算项目支出预算表
B3: 部门： | G3: 金额单位：元
B4: 科目编码 | E4: 单位代码 | F4: 单位名称（科目） | G4: 金额
B5: 类 | C5: 款 | D5: 项
F6: 合 计 | G6: =G7 -> 3527972
G7: =G8 -> 3527972
F8: 盐边县红宝苗族彝族乡人民政府 | G8: =G9+G13+G15+G17+G19+G21+G23 -> 3527972
F9: 其他农林水支出 | G9: =G10+G11+G12 -> 3400000
B10: 213 | C10: 99 | D10: 99 | E10: 800020 | F10: 盐财资农[2022]127号关于2022年中央资金择木龙村美丽乡村建设项目 | G10: 3000000
B11: 213 | C11: 07 | D11: 05 | E11: 800020 | F11: 盐财资预【2023】5号关于下达2023年省县级基层组织活动和公共服务运行经费(省县级) | G11: 330000
B12: 213 | C12: 07 | D12: 05 | E12: 800020 | F12: 根据盐财资预【2022】124号：关于下达2022年市县级基层组织活动和公共服务运行经费 | G12: 70000
F13: 民族工作专项 | G13: =G14 -> 13915
B14: 201 | C14: 23 | D14: 04 | E14: 800020 | F14: 红宝苗族彝族乡2023年少数民族工作经费补助 | G14: 13915
F15: 人大会议 | G15: =G16 -> 31850
B16: 201 | C16: 01 | D16: 04 | E16: 800020 | F16: 红宝苗族彝族乡2023年乡人大代表活动经费及人代会经费 | G16: 31850
F17: 基层政权建设和社区治理 | G17: =G18 -> 30000
B18: 208 | C18: 02 | D18: 08 | E18: 800020 | F18: 红宝苗族彝族乡2023年乡镇服务站 | G18: 30000
F19: 其他公共卫生支出 | G19: =G20 -> 18005
B20: 210 | C20: 04 | D20: 99 | E20: 800020 | F20: 红宝苗族彝族乡2023年基本公共卫生服务经费 | G20: 18005
F21: 农村特困人员救助供养支出 | G21: =G22 -> 27000
B22: 208 | C22: 21 | D22: 02 | E22: 800020 | F22: 红宝苗族彝族乡2023年农村特困人员丧葬费 | G22: 27000
F23: 一般行政管理事务 | G23: =G24 -> 7202
B24: 201 | C24: 03 | D24: 02 | E24: 800020 | F24: 红宝苗族彝族乡2023年乡村治理补助 | G24: 7202

Sheet 表3-3一般公共预算“三公”经费支出预算表
I1: 表3-3
B2: 一般公共预算“三公”经费支出预算表
B3: 部门： | I3: 金额单位：元
B4: 单位编码 | C4: 单位名称（科目） | D4: 当年财政拨款预算安排
D5: 合计 | E5: 因公出国（境）费用 | F5: 公务用车购置及运行费 | I5: 公务接待费
F6: 小计 | G6: 公务用车购置费 | H6: 公务用车运行费
C7: 合 计 | D7: =F7+I7 -> 69700 | F7: =F8 -> 64700 | H7: =H8 -> 64700 | I7: =I8 -> 5000
D8: =F8+I8 -> 69700 | F8: =F9 -> 64700 | H8: =H9 -> 64700 | I8: =I9 -> 5000
B9: 800020 | C9: 盐边县红宝苗族彝族乡人民政府 | D9: =F9+I9 -> 69700 | F9: 64700 | H9: 64700 | I9: 5000

Sheet 表4政府性基金支出预算表
I1: 表4
B2: 政府性基金支出预算表
B3: 部门： | I3: 金额单位：元
B4: 项 目 | G4: 本年政府性基金预算支出
B5: 科目编码 | E5: 单位代码 | F5: 单位名称（科目） | G5: 合计 | H5: 基本支出 | I5: 项目支出
B6: 类 | C6: 款 | D6: 项
F7: 合 计

Sheet 表4-1政府性基金预算“三公”经费支出预算表
I1: 表4-1
B2: 政府性基金预算“三公”经费支出预算表
B3: 部门： | I3: 金额单位：元
B4: 单位编码 | C4: 单位名称（科目） | D4: 当年财政拨款预算安排
D5: 合计 | E5: 因公出国（境）费用 | F5: 公务用车购置及运行费 | I5: 公务接待费
F6: 小计 | G6: 公务用车购置费 | H6: 公务用车运行费
C7: 合 计

Sheet 表5国有资本经营预算支出预算表
I1: 表5
B2: 国有资本经营预算支出预算表
B3: 部门： | I3: 金额单位：万元
B4: 项 目 | G4: 本年国有资本经营预算支出
B5: 科目编码 | E5: 单位代码 | F5: 单位名称（科目） | G5: 合计 | H5: 基本支出 | I5: 项目支出
B6: 类 | C6: 款 | D6: 项
F7: 合 计

Sheet 表6部门预算项目支出绩效目标表
A1: 部门预算项目支出绩效目标表
D2: （2023年度）
A3: 项目名称 | D3: 红宝乡2023年乡村治理补助
A4: 预算单位 | D4: 红宝乡人民政府
A5: 项目资金(元) | D5: 年度资金总额： | E5: 7202
D6: 其中：财政拨款 | E6: 7202
D7: 其他资金
A8: 总体目标 | B8: 年度目标
B9: 为了推进红宝乡乡村治理工作，提高基层治理能力，促进社会稳定，实现乡村振兴。
A10: 绩效指标 | B10: 一级指标 | C10: 二级指标 | D10: 三级指标 | E10: 指标值（包含数字及文字描述）
B11: 产出指标 | C11: 数量指标 | D11: 基层治理能力提升 | E11: ≥98%
C12: 质量指标 | D12: 全乡3567人 | E12: ≥100%
C13: 时效指标 | D13: 2023年 | E13: ≥100%
B14: 效益指标 | C14: 社会效益指标 | D14: 促进乡村发展，社会稳定 | E14: ≥98%
B15: 成本指标 | C15: 经济成本指标 | D15: 7202元 | E15: ≥100%
B16: 满意度指标 | C16: 服务对象满意度指标 | D16: 村民满意度持续提升 | E16: ≥98%

Sheet 表6-1部门预算项目支出绩效目标表
A1: 部门预算项目支出绩效目标表
D2: （2023年度）
A3: 项目名称 | D3: 盐财资农[2022]127号关于2022年中央资金择木龙村美丽乡村建设项目
A4: 预算单位 | D4: 红宝乡人民政府
A5: 项目资金(元) | D5: 年度资金总额： | E5: 3000000
D6: 其中：财政拨款 | E6: 3000000
D7: 其他资金
A8: 总体目标 | B8: 年度目标
B9: 推进择木龙村美丽乡村建设、提升乡村整体形象，促进乡村振兴的大力实施。
A10: 绩效指标 | B10: 一级指标 | C10: 二级指标 | D10: 三级指标 | E10: 指标值（包含数字及文字描述）
B11: 产出指标 | C11: 数量指标 | D11: 建设美丽乡村 | E11: ≥100%
C12: 质量指标 | D12: 提升乡村整体形象，促进乡村振兴实施 | E12: ≥100%
C13: 时效指标 | D13: 2023年 | E13: ≥100%
B14: 效益指标 | C14: 社会效益指标 | D14: 提升乡村整体形象，促进乡村振兴实施 | E14: ≥98%
B15: 成本指标 | C15: 经济成本指标 | D15: 300万元 | E15: ≥100%
B16: 满意度指标 | C16: 服务对象满意度指标 | D16: 提高群众满意度 | E16: ≥98%

Sheet 表6-2部门预算项目支出绩效目标表
A1: 部门预算项目支出绩效目标表
A2: （2023年度）
A3: 项目名称 | D3: 红宝乡2023年乡镇社工服务站经费
A4: 预算单位 | D4: 红宝乡人民政府
A5: 项目资金(元) | D5: 年度资金总额： | E5: 30000
D6: 其中：财政拨款 | E6: 30000
D7: 其他资金
A8: 总体目标 | B8: 年度目标
B9: 保障社工工作基本办公支出，改善办公条件，促使社工工作便捷，保障社区公民切身利益。
A10: 绩效指标 | B10: 一级指标 | C10: 二级指标 | D10: 三级指标 | E10: 指标值（包含数字及文字描述）
B11: 产出指标 | C11: 数量指标 | D11: 社工服务站数量 | E11: ≥1个
C12: 质量指标 | D12: 社工服务站服务覆盖率 | E12: ≥98%
C13: 时效指标 | D13: 2023年 | E13: ≥100%
B14: 效益指标 | C14: 社会效益指标 | D14: 保障社区公民切身利益 | E14: ≥98%
B15: 成本指标 | C15: 经济成本指标 | D15: 30000元 | E15: ≥100%
B16: 满意度指标 | C16: 服务对象满意度指标 | D16: 服务群众满意度持续提升 | E16: ≥98%

Sheet 表6-3部门预算项目支出绩效目标表
A1: 部门预算项目支出绩效目标表
A2: （2023年度）
A3: 项目名称 | D3: 红宝乡2023年基本公共卫生服务经费
A4: 预算单位 | D4: 红宝乡人民政府
A5: 项目资金(元) | D5: 年度资金总额： | E5: 18005
D6: 其中：财政拨款 | E6: 18005
D7: 其他资金
A8: 总体目标 | B8: 年度目标
B9: 保证疫情等公共卫生工作的顺利推进。
A10: 绩效指标 | B10: 一级指标 | C10: 二级指标 | D10: 三级指标 | E10: 指标值（包含数字及文字描述）
B11: 产出指标 | C11: 数量指标 | D11: 全镇覆盖率 | E11: ≥98%
C12: 质量指标 | D12: 公共卫生服务工作质量达标率 | E12: ≥98%
C13: 时效指标 | D13: 2023年 | E13: ≥100%
B14: 效益指标 | C14: 社会效益指标 | D14: 促进当地公共卫生服务 | E14: ≥98%
B15: 成本指标 | C15: 经济成本指标 | D15: 18005元 | E15: ≥100%
B16: 满意度指标 | C16: 服务对象满意度指标 | D16: 服务群众满意度持续提升 | E16: ≥98%

Sheet 表6-4部门预算项目支出绩效目标表
A1: 部门预算项目支出绩效目标表
A2: （2023年度）
A3: 项目名称 | D3: 红宝乡2023年人民代表活动经费及人民代表大会会议费
A4: 预算单位 | D4: 红宝乡人民政府
A5: 项目资金(元) | D5: 年度资金总额： | E5: 31850
D6: 其中：财政拨款 | E6: 31850
D7: 其他资金
A8: 总体目标 | B8: 年度目标
B9: 用于保障乡人民代表大会的顺利召开及人民代表的培训、考查相关工作的开展。
A10: 绩效指标 | B10: 一级指标 | C10: 二级指标 | D10: 三级指标 | E10: 指标值（包含数字及文字描述）
B11: 产出指标 | C11: 数量指标 | D11: 人大会议召开 | E11: ≥3次
C12: 质量指标 | D12: 乡人大代表会顺利召开经费保障 | E12: ≥98%
C13: 时效指标 | D13: 2023年 | E13: ≥100%
B14: 效益指标 | C14: 社会效益指标 | D14: 人大代表履职能力进一步提升 | E14: ≥98%
B15: 成本指标 | C15: 经济成本指标 | D15: 31850元 | E15: ≥100%
B16: 满意度指标 | C16: 服务对象满意度指标 | D16: 人大代表履职能力进一步提升 | E16: ≥98%

Sheet 表6-5部门预算项目支出绩效目标表
A1: 部门预算项目支出绩效目标表
A2: （2023年度）
A3: 项目名称 | D3: 红宝乡2023年少数民族工作经费
A4: 预算单位 | D4: 红宝乡人民政府
A5: 项目资金(元) | D5: 年度资金总额： | E5: 13915
D6: 其中：财政拨款 | E6: 13915
D7: 其他资金
A8: 总体目标 | B8: 年度目标
B9: 促进民族地区发展，实现民族大团结。
A10: 绩效指标 | B10: 一级指标 | C10: 二级指标 | D10: 三级指标 | E10: 指标值（包含数字及文字描述）
B11: 产出指标 | C11: 数量指标 | D11: 覆盖红宝乡少数民族人群 | E11: ≥1批
C12: 质量指标 | D12: 促进少数民族地区经济发展 | E12: ≥98%
C13: 时效指标 | D13: 2023年 | E13: ≥100%
B14: 效益指标 | C14: 社会效益指标 | D14: 促进民族团结 | E14: ≥98%
B15: 成本指标 | C15: 经济成本指标 | D15: 1.39万元 | E15: ≥100%
B16: 满意度指标 | C16: 服务对象满意度指标 | D16: 促进民族团结 | E16: ≥98%

Sheet 表6-6部门预算项目支出绩效目标表
A1: 部门预算项目支出绩效目标表
A2: （2023年度）
A3: 项目名称 | D3: 红宝乡2023年农村特困人员丧葬费
A4: 预算单位 | D4: 红宝乡人民政府
A5: 项目资金(元) | D5: 年度资金总额： | E5: 27000
D6: 其中：财政拨款 | E6: 27000
D7: 其他资金
A8: 总体目标 | B8: 年度目标
B9: 用于保证农村五保户供养人员死亡丧葬费用。
A10: 绩效指标 | B10: 一级指标 | C10: 二级指标 | D10: 三级指标 | E10: 指标值（包含数字及文字描述）
B11: 产出指标 | C11: 数量指标 | D11: 2022年死亡五保户 | E11: ≥4个
C12: 质量指标 | D12: 五保户丧葬费 | E12: ≥100%
C13: 时效指标 | D13: 2023年 | E13: ≥100%
B14: 效益指标 | C14: 社会效益指标 | D14: 五保户丧葬费 | E14: ≥98%
B15: 成本指标 | C15: 经济成本指标 | D15: 27000万元 | E15: ≥100%
B16: 满意度指标 | C16: 服务对象满意度指标 | D16: 五保户满意度持续提升 | E16: ≥98%

Sheet 表6-7部门预算项目支出绩效目标表
A1: 部门预算项目支出绩效目标表
A2: （2023年度）
A3: 项目名称 | D3: 根据盐财资预【2023】5号关于下达2023年基层组织活动和公共服务运行经费（省县级）
A4: 预算单位 | D4: 红宝乡人民政府
A5: 项目资金(元) | D5: 年度资金总额： | E5: 330000
D6: 其中：财政拨款 | E6: 330000
D7: 其他资金
A8: 总体目标 | B8: 年度目标
B9: 盐财资预【2023】5号关于下达2023年基层组织活动和公共服务运行经费
A10: 绩效指标 | B10: 一级指标 | C10: 二级指标 | D10: 三级指标 | E10: 指标值（包含数字及文字描述）
B11: 产出指标 | C11: 数量指标 | D11: 5个村 | E11: ≥10个
C12: 质量指标 | D12: 完成本年度公共运费维 | E12: ≥100%
C13: 时效指标 | D13: 2023年 | E13: ≥100%
B14: 效益指标 | C14: 社会效益指标 | D14: 完成本年度公共运费维护，改善乡村环境 | E14: ≥100%
B15: 成本指标 | C15: 经济成本指标 | D15: 33万元 | E15: ≥100%
B16: 满意度指标 | C16: 服务对象满意度指标 | D16: 政府履职能力满意度持续提升 | E16: ≥98%

Sheet 表6-8部门预算项目支出绩效目标表
A1: 部门预算项目支出绩效目标表
A2: （2023年度）
A3: 项目名称 | D3: 盐财资预【2022】124号：关于下达2022年市县级基层组织活动和公共服务运行经费
A4: 预算单位 | D4: 红宝乡人民政府
A5: 项目资金(元) | D5: 年度资金总额： | E5: 70000
D6: 其中：财政拨款 | E6: 70000
D7: 其他资金
A8: 总体目标 | B8: 年度目标
B9: 盐财资预【2022】124号：关于下达2022年市县级基层组织活动和公共服务运行经费
A10: 绩效指标 | B10: 一级指标 | C10: 二级指标 | D10: 三级指标 | E10: 指标值（包含数字及文字描述）
B11: 产出指标 | C11: 数量指标 | D11: 5个村 | E11: ≥10个
C12: 质量指标 | D12: 完成本年度公共运费维 | E12: ≥100%
C13: 时效指标 | D13: 2023年 | E13: ≥100%
B14: 效益指标 | C14: 社会效益指标 | D14: 完成本年度公共运费维护，改善乡村环境 | E14: ≥100%
B15: 成本指标 | C15: 经济成本指标 | D15: 7万元 | E15: ≥100%
B16: 满意度指标 | C16: 服务对象满意度指标 | D16: 政府履职能力满意度持续提升 | E16: ≥98%

Sheet 表6-9部门预算项目支出绩效目标表
A1: 部门预算项目支出绩效目标表
A2: （2023年度）
A3: 项目名称 | D3: 红宝乡2023年基本公共卫生服务经费
A4: 预算单位 | D4: 红宝乡人民政府
A5: 项目资金(元) | D5: 年度资金总额： | E5: 18005
D6: 其中：财政拨款 | E6: 18005
D7: 其他资金
A8: 总体目标 | B8: 年度目标
B9: 保障基本公共卫生服务工作顺利开展
A10: 绩效指标 | B10: 一级指标 | C10: 二级指标 | D10: 三级指标 | E10: 指标值（包含数字及文字描述）
B11: 产出指标 | C11: 数量指标 | D11: 5个村 | E11: ≥10个
C12: 质量指标 | D12: 公共卫生服务工作达标 | E12: ≥100%
C13: 时效指标 | D13: 2023年 | E13: ≥100%
B14: 效益指标 | C14: 社会效益指标 | D14: 促进公共卫生工作，改善卫生环境 | E14: ≥100%
B15: 成本指标 | C15: 经济成本指标 | D15: 18005元 | E15: ≥100%
B16: 满意度指标 | C16: 服务对象满意度指标 | D16: 政府履职能力满意度持续提升 | E16: ≥98%

Sheet 表7部门整体支出绩效目标表
A1: 部门整体支出绩效目标表
A2: （2023年度）
A3: 部门名称 | D3: 红宝苗族彝族乡人民政府2023年部门预算
A4: 年度主要任务 | B4: 任务名称 | D4: 主要内容
B5: 2023年部门预算编制 | D5: 严格执行相关政策，保障全年工资发放，机关办公运转等，预算编制科学合理，尽量压缩三公经费预算。
B9: 年度部门整体支出预算 | F9: 资金总额 | G9: 财政拨款 | H9: 其他资金
F10: 12529194.94元 | G10: 12529194.94元
A11: 年度总体目标 | B11: 严格执行相关政策，保障全年工资发放，机关办公运转等，预算编制科学合理，尽量压缩三公经费预算。
A12: 年度绩效指标 | B12: 一级指标 | C12: 二级指标 | E12: 三级指标 | G12: 指标值 （包含数字及文字描述）
B13: 产出指标 | C13: 数量指标 | E13: 基本支出 | G13: 9001222.94元
E14: 项目支出 | G14: 3527972元
C15: 质量指标 | E15: 运行保障率 | G15: 1
C17: 时效指标 | E17: 本年度 | G17: 2023年
C19: 成本指标 | E19: 基本支出 | G19: 9001222.94元
E20: 项目支出 | G20: 3527972元
B21: 效益指标 | C21: 经济效益指标 | E21: 发放（缴纳）率 | G21: 1
C22: 社会效益指标 | E22: 足额保障（参保）率 | G22: 1
C23: 生态效益指标 | E23: 社会可持续发展 | G23: 1
C24: 可持续影响指标 | E24: 运行保障率 | G24: 1
B25: 满意度指标 | C25: 服务对象满意度指标 | E25: 基层治理能力提升 | G25: 1
