Workbook
Name 地区名称: 目录!#REF!
Name 地区名称: 封面!$B$2:$B$6

Sheet 封面
B1: 地区名称
B2: 北京市
A3: 盐边县2019年乡镇财政预算表 | B3: 天津市
B4: 河北省
B5: 山西省
B6: 内蒙古自治区

Sheet 目录
A1: 目 录
A2: 表一 2019年公共财政预算收支表
A3: 表二 2019年公共财政预算支出资金来源情况表
A4: 表三 2019年公共财政预算支出经济分类情况表
A5: 表四 2019年政府性基金预算收支表
A6: 表五 2019年政府性基金预算收支明细表
A7: 表六 2019年政府性基金预算支出资金来源情况表
A8: 表七 2019年公共财政预算收入分级表
A9: 表八 2019年公共财政预算支出分级表
A10: 表九 2019年公共财政预算支出经济分类情况表
A11: 表十 2019年公共财政预算支出保障序列表

Sheet 表一
A1: 表一
A2: 2019年公共财政预算收支表
F3: 单位：万元
A4: 收 入 | D4: 支 出
A5: 项 目 | B5: 预算数 | C5: 备注 | D5: 项 目 | E5: 预算数 | F5: 备注
A6: 一、税收收入 | D6: 一、一般公共服务 | E6: =E7+E28+E63+E219 -> 242.1 | G6: 1
A7: 增值税 | D7: 人大事务 | E7: =SUM(E8:E18) -> 15.31 | G7: 2
A8: 消费税 | D8: 行政运行 | E8: 12.38
A9: 营业税 | D9: 一般行政管理事务
A10: 企业所得税 | D10: 机关服务
A11: 企业所得税退税 | D11: 人大会议 | E11: 2.93
A12: 个人所得税 | D12: 人大立法
A13: 资源税 | D13: 人大监督
A14: 城市维护建设税 | D14: 人大代表履职能力提升
A15: 房产税 | D15: 代表工作
A16: 印花税 | D16: 人大信访工作
A17: 城镇土地使用税 | D17: 事业运行
A18: 土地增值税 | D18: 其他人大事务支出
A19: 车船税 | D19: 政协事务
A20: 船舶吨税 | D20: 行政运行 | G20: 2
A21: 车辆购置税 | D21: 一般行政管理事务
A22: 关税 | D22: 机关服务
A23: 耕地占用税 | D23: 政协会议
A24: 契税 | D24: 委员视察
A25: 烟叶税 | D25: 参政议政
A26: 其他税收收入 | D26: 事业运行
A27: 二、非税收入 | D27: 其他政协事务支出
A28: 专项收入 | D28: 政府办公厅(室)及相关机构事务 | E28: =SUM(E29:E39) -> 187.22
A29: 行政事业性收费收入 | D29: 行政运行 | E29: 166.72 | G29: 2
A30: 罚没收入 | D30: 一般行政管理事务 | E30: 1.04
A31: 国有资本经营收入 | D31: 机关服务
A32: 国有资源（资产）有偿使用收入 | D32: 专项服务
A33: 捐赠收入 | D33: 专项业务活动
A34: 其他收入 | D34: 政务公开审批
A35: 三、债务收入 | D35: 法制建设
A36: 中央政府债务收入 | D36: 信访事务
A37: 地方政府债务收入 | D37: 参事事务
D38: 事业运行 | E38: 19.46
D39: 其他政府办公厅（室）及相关机构事务支出
D40: 发展与改革事务 | G40: 2
...

Sheet 表二
A1: 表二
A2: 2019年公共财政预算支出资金来源情况表
J3: 单位：万元
A4: 项目 | B4: 合计 | C4: 当年财力 | D4: 专项转移支付收入 | E4: 上年结余收入 | H4: 调入资金 | I4: 其他资金 | J4: 备注
E5: 小计 | F5: 上年结转 | G5: 净结余
A6: 一、一般公共服务 | C6: =SUM(C7:C34) -> 242.1
A7: 人大事务 | C7: 15.31
A8: 政协事务
A9: 政府办公厅(室)及相关机构事务 | C9: 187.22
A10: 发展与改革事务
A11: 统计信息事务
A12: 财政事务 | C12: 16
A13: 税收事务
A14: 审计事务
A15: 海关事务
A16: 人力资源事务
A17: 纪检监察事务
A18: 商贸事务
A19: 知识产权事务
A20: 工商行政管理事务
A21: 质量技术监督与检验检疫事务
A22: 民族事务
A23: 宗教事务
A24: 港澳台侨事务
... A27: 群众团体事务
A28: 党委办公厅（室）及相关机构事务 | C28: 23.57
A29: 组织事务
A30: 宣传事务
A31: 统战事务
A32: 对外联络事务
A33: 其他共产党事务支出
A34: 其他一般公共服务支出
A35: 二、外交
A36: 对外合作与交流
A37: 其他外交支出
A38: 三、国防
A39: 民兵
A40: 国防动员
... A75: 其他科学技术支出
A76: 七、文化体育与传媒 | C76: 9.17
...

Sheet 表三
A1: 表三
A2: 表三 2019年公共财政预算支出经济分类情况表
O3: 单位:万元
A4: 项 目 | B4: 总计 | C4: 工资福利支出 | D4: 商品和服务支出 | E4: 对个人和家庭的补助 | F4: 对企事业单位的补贴 | G4: 转移性支出 | H4: 赠与 | I4: 债务利息支出 | J4: 债务还本支出 | K4: 基本建设支出 | L4: 其他资本性支出 | M4: 贷款转贷及产权参股 | N4: 其他支出 | O4: 备注
A5: 一、一般公共服务 | B5: =SUM(C5:O5) -> 234.47 | C5: 178.13 | D5: 46.15 | E5: 10.19
A6: 二、外交 | B6: =SUM(C6:O6) -> 0
A7: 三、国防 | B7: =SUM(C7:O7) -> 0
A8: 四、公共安全 | B8: =SUM(C8:O8) -> 0
A9: 五、教育 | B9: =SUM(C9:O9) -> 0
A10: 六、科学技术 | B10: =SUM(C10:O10) -> 0
A11: 七、文化体育与传媒 | B11: =SUM(C11:O11) -> 9.9 | C11: 8.9 | D11: 1
A12: 八、社会保障和就业 | B12: =SUM(C12:O12) -> 62.1 | C12: 59.72 | D12: 1.5 | E12: 0.88
A13: 九、医疗卫生与计划生育 | B13: =SUM(C13:O13) -> 0
A14: 十、节能环保 | B14: =SUM(C14:O14) -> 0
A15: 十一、城乡社区 | B15: =SUM(C15:O15) -> 0
A16: 十二、农林水 | B16: =SUM(C16:O16) -> 79.94 | C16: 59.55 | D16: 18.98 | E16: 1.41
A17: 十三、交通运输 | B17: =SUM(C17:O17) -> 0
A18: 十四、资源勘探信息等 | B18: =SUM(C18:O18) -> 0
A19: 十五、商业服务业等 | B19: =SUM(C19:O19) -> 0
A20: 十六、金融 | B20: =SUM(C20:O20) -> 0
A21: 十七、援助其他地区 | B21: =SUM(C21:O21) -> 0
A22: 十八、国土海洋气象等 | B22: =SUM(C22:O22) -> 0
A23: 十九、住房保障 | B23: =SUM(C23:O23) -> 43.91 | C23: 43.91
A24: 二十、粮油物资储备 | B24: =SUM(C24:O24) -> 0
A25: 二十一、预备费 | B25: =SUM(C25:O25) -> 11 | C25: 11
A26: 二十二、国债还本付息 | B26: =SUM(C26:O26) -> 0
A27: 二十三、其他 | B27: =SUM(C27:O27) -> 233.43 | C27: 21.66 | N27: 211.77
A37: 转移性支出 | B37: =IF(SUM(C37:N37)=表一!E1314,SUM(C37:N37),FALSE) -> 0
A42: 支 出 总 计 | B42: =SUM(C5:O27) -> 674.75

Sheet 表四
A1: 表四
A2: 2019年政府性基金预算收支表
F3: 单位：万元
A4: 收 入 | D4: 支 出
A5: 项 目 | B5: 预算数 | C5: 备注 | D5: 项 目 | E5: 预算数 | F5: 备注
A6: 非税收入 | D6: 二、科学技术
A7: 一、农网还贷资金收入
A8: 二、铁路建设基金收入
A9: 三、民航发展基金收入 | G9: 2
A10: 四、海南省高等级公路车辆通行附加费收入
A11: 五、港口建设费收入
A12: 六、散装水泥专项资金收入
A13: 七、新型墙体材料专项基金收入 | D13: 三、文化体育与传媒
A14: 八、旅游发展基金收入 | D14: 文化事业建设费安排的支出 | G14: 2
A15: 九、国家电影事业发展专项资金收入 | D15: 国家电影事业发展专项资金支出 | G15: 2
A16: 十、新菜地开发建设基金收入 | D16: 四、社会保障和就业 | G16: 2
A17: 十一、新增建设用地土地有偿使用费收入 | D17: 大中型水库移民后期扶持基金支出
A18: 十二、南水北调工程基金收入 | D18: 小型水库移民扶助基金支出 | G18: 2
A19: 十四、政府住房基金收入 | G19: 2
A20: 十五、城市公用事业附加收入 | D20: 五、节能环保支出
A21: 十六、国有土地收益基金收入 | D21: 可再生能源电价附加收入安排的支出
A22: 十七、农业土地开发资金收入 | D22: 废弃电器电子产品处理基金支出 | G22: 2
A23: 十八、国有土地使用权出让收入 | D23: 六、城乡社区
A24: 十九、大中型水库库区基金收入 | D24: 政府住房基金支出 | G24: 2
A25: 二十、三峡水库库区基金收入 | D25: 国有土地使用权出让收入安排的支出 | G25: 2
A26: 二十一、中央特别国债经营基金收入 | D26: 城市公用事业附加安排的支出 | G26: 2
A27: 二十二、中央特别国债经营基金财务收入 | D27: 国有土地收益基金支出 | G27: 2
A28: 二十三、彩票公益金收入 | D28: 农业土地开发资金支出 | G28: 2
A29: 二十四、城市基础设施配套费收入 | D29: 新增建设用地有偿使用费安排的支出 | G29: 2
A30: 二十五、小型水库移民扶助基金收入 | D30: 城市基础设施配套费安排的支出 | G30: 2
A31: 二十六、国家重大水利工程建设基金收入 | D31: 七、农林水
A32: 二十七、车辆通行费 | D32: 新菜地开发建设基金支出 | G32: 2
A33: 二十八、核电站乏燃料处理处置基金收入 | D33: 大中型水库库区基金支出 | G33: 2
A34: 二十九、可再生能源电价附加收入 | D34: 南水北调工程基金支出 | G34: 2
A35: 三十、船舶油污损害赔偿基金收入 | D35: 国家重大水利工程建设基金支出 | G35: 2
A36: 三十一、铁路资产变现收入 | D36: 水土保持补偿费安排的支出 | G36: 2
A37: 三十二、电力改革预留资产变现收入 | G37: 2
A38: 三十三、无线电频率占用费 | G38: 2
A39: 三十四、废弃电器电子产品处理基金收入 | G39: 2
A40: 三十五、水土保持补偿费收入 | D40: 八、交通运输
...

Sheet 表五
A1: 表五
A2: 2019年政府性基金预算收支明细表
D3: 单位：万元
A4: 收 入 | C4: 支 出
A5: 项 目 | B5: 预算数 | C5: 项 目 | D5: 预算数
A6: 一、农网还贷资金收入 | C6: 一、教育 | E6: 1
A7: 二、转让政府还贷道路收费权收入 | C7: 地方教育附加安排的支出 | E7: 1
A8: 转让政府还贷公路收费权收入 | C8: 农村中小学校舍建设 | E8: 2
A9: 转让政府还贷城市道路收费权收入 | C9: 农村中小学教学设施
A10: 三、港口建设费收入 | C10: 城市中小学校舍建设
A11: 四、散装水泥专项资金收入 | C11: 城市中小学教学设施
A12: 五、新型墙体材料专项基金收入 | C12: 中等职业学校教学设施
A13: 六、旅游发展基金收入 | C13: 其他地方教育附加安排的支出
A14: 七、文化事业建设费收入 | C14: 二、科学技术
A15: 八、地方教育附加收入 | C15: 三、文化体育与传媒 | E15: 1
A16: 九、国家电影事业发展专项资金收入 | C16: 文化事业建设费安排的支出 | E16: 1
A17: 十、新菜地开发建设基金收入 | C17: 精神文明建设 | E17: 2
A18: 十一、新增建设用地土地有偿使用费收入 | C18: 人才培训教学 | E18: 2
A19: 十二、育林基金收入 | C19: 文化创作
A20: 十三、森林植被恢复费 | C20: 文化事业单位补助
A21: 十四、地方水利建设基金收入 | C21: 爱国主义教育基地
A22: 地方水利建设基金划转收入 | C22: 其他文化事业建设费安排的支出
A23: 地方其他水利建设基金收入 | C23: 国家电影事业发展专项资金支出
A24: 十五、南水北调工程建设基金收入 | C24: 资助国产影片放映
A25: 十六、残疾人就业保障金收入 | C25: 资助城市影院 | E25: 2
A26: 十七、政府住房基金收入 | C26: 资助少数民族电影译制
A27: 上缴管理费用 | C27: 其他国家电影事业发展专项资金支出
A28: 计提公共租赁住房资金 | C28: 四、社会保障和就业
A29: 公共租赁住房租金收入 | C29: 大中型水库移民后期扶持基金支出
A30: 配建商业设施租售收入 | C30: 移民补助 | E30: 1
A31: 其他政府住房基金收入 | C31: 基础设施建设和经济发展 | E31: 2
A32: 十八、城市公用事业附加收入 | C32: 其他大中型水库移民后期扶持基金支出
A33: 十九、国有土地收益基金收入 | C33: 小型水库移民扶助基金支出
A34: 二十、农业土地开发资金收入 | C34: 移民补助
A35: 二十一、国有土地使用权出让收入 | C35: 基础设施建设和经济发展 | E35: 2
A36: 土地出让价款收入 | C36: 其他小型水库移民扶助基金支出
A37: 补缴的土地价款 | C37: 残疾人就业保障金支出
A38: 划拨土地收入 | C38: 就业和培训
A39: 教育资金收入 | C39: 职业康复 | E39: 2
A40: 农田水利建设资金收入 | C40: 扶持农村残疾人生产
...

Sheet 表六
A1: 表六
A2: 2019年政府性基金预算支出资金来源情况表
H3: 单位：万元
A4: 项目 | B4: 合计 | C4: 当年预算收入 | D4: 政府性基金补助收入 | E4: 上年结转 | F4: 调入资金 | G4: 其他资金 | H4: 备注
A6: =表四!D7 -> 0 | B6: =IF(SUM(C6:G6)=VLOOKUP($A$6:$A$54,表四!$D$7:$E$60,2,FALSE),SUM(C6:G6),FALSE) -> #N/A
A7: 一、教育 | B7: =IF(SUM(C7:G7)=VLOOKUP($A$6:$A$54,表四!$D$7:$E$60,2,FALSE),SUM(C7:G7),FALSE) -> #N/A
A8: 地方教育附加安排的支出 | B8: =IF(SUM(C8:G8)=VLOOKUP($A$6:$A$54,表四!$D$7:$E$60,2,FALSE),SUM(C8:G8),FALSE) -> #N/A
A9: 二、科学技术 | B9: =IF(SUM(C9:G9)=VLOOKUP($A$6:$A$54,表四!$D$7:$E$60,2,FALSE),SUM(C9:G9),FALSE) -> #N/A
A10: 三、文化体育与传媒 | B10: =IF(SUM(C10:G10)=VLOOKUP($A$6:$A$54,表四!$D$7:$E$60,2,FALSE),SUM(C10:G10),FALSE) -> 0
A11: 文化事业建设费安排的支出 | B11: =IF(SUM(C11:G11)=VLOOKUP($A$6:$A$54,表四!$D$7:$E$60,2,FALSE),SUM(C11:G11),FALSE) -> 0
A12: 国家电影事业发展专项资金支出 | B12: =IF(SUM(C12:G12)=VLOOKUP($A$6:$A$54,表四!$D$7:$E$60,2,FALSE),SUM(C12:G12),FALSE) -> 0
A13: 四、社会保障和就业 | B13: =IF(SUM(C13:G13)=VLOOKUP($A$6:$A$54,表四!$D$7:$E$60,2,FALSE),SUM(C13:G13),FALSE) -> 0
A14: 大中型水库移民后期扶持基金支出 | B14: =IF(SUM(C14:G14)=VLOOKUP($A$6:$A$54,表四!$D$7:$E$60,2,FALSE),SUM(C14:G14),FALSE) -> 0
A15: 小型水库移民扶助基金支出 | B15: =IF(SUM(C15:G15)=VLOOKUP($A$6:$A$54,表四!$D$7:$E$60,2,FALSE),SUM(C15:G15),FALSE) -> 0
A16: 残疾人就业保障金支出 | B16: =IF(SUM(C16:G16)=VLOOKUP($A$6:$A$54,表四!$D$7:$E$60,2,FALSE),SUM(C16:G16),FALSE) -> #N/A
A17: 五、节能环保支出 | B17: =IF(SUM(C17:G17)=VLOOKUP($A$6:$A$54,表四!$D$7:$E$60,2,FALSE),SUM(C17:G17),FALSE) -> 0
A18: 可再生能源电价附加收入安排的支出 | B18: =IF(SUM(C18:G18)=VLOOKUP($A$6:$A$54,表四!$D$7:$E$60,2,FALSE),SUM(C18:G18),FALSE) -> 0
... A54: 其他政府性基金支出 | B54: =IF(SUM(C54:G54)=VLOOKUP($A$6:$A$54,表四!$D$7:$E$60,2,FALSE),SUM(C54:G54),FALSE) -> 0
A55: 彩票发行销售机构业务费安排的支出
A56: 彩票公益金安排的支出
A57: 烟草企业上缴专项收入安排的支出
A67: 支出合计 | B67: =IF(SUM(C67:G67)=表四!B65,表四!B65,FALSE) -> 0 | C67: =SUM(C6:C7,C9:C10,C14,C18,C26,C35,C44,C50,C52) -> 0 | D67: =SUM(D6:D7,D9:D10,D14,D18,D26,D35,D44,D50,D52) -> 0 | E67: =SUM(E6:E7,E9:E10,E14,E18,E26,E35,E44,E50,E52) -> 0 | F67: =SUM(F6:F7,F9:F10,F14,F18,F26,F35,F44,F50,F52) -> 0 | G67: =SUM(G6:G7,G9:G10,G14,G18,G26,G35,G44,G50,G52) -> 0

Sheet 表七
B1: 表七
B2: 2019年公共财政预算收入分级表
B3: 单位：万元
B4: 地区 | C4: 一、税收收入 | D4: 增值税 | E4: 营业税 | F4: 企业所得税 | G4: 企业所得税退税 | H4: 个人所得税 | I4: 资源税 | J4: 城市维护建设税 | K4: 房产税 | L4: 印花税 | M4: 城镇土地使用税 | N4: 土地增值税 | O4: 车船税 | P4: 船舶吨税 | Q4: 车辆购置税 | R4: 关税 | S4: 耕地占用税 | T4: 契税 | U4: 烟叶税 | V4: 其他税收收入 | W4: 二、非税收入 | X4: 专项收入 | Y4: 行政事业性收费收入 | Z4: 罚没收入 | AA4: 国有资本经营收入 | AB4: 国有资源（资产）有偿使用收入 | AC4: 其他收入 | AD4: 三、债务收入 | AE4: 国内债务收入 | AF4: 国外债务收入 | AG4: 收入合计 | AI4: 转移性收入 | AJ4: 上级补助收入 | AK4: 返还性收入 | AL4: 增值税和消费税税收返还收入 | AM4: 所得税基数返还收入 | AN4: 成品油价格和税费改革税收返还收入 | AO4: 其他税收返还收入 | AP4: 固定数额支付收入 | AQ4: 体制补助收入 | AR4: 均衡性转移支付补助收入 | AS4: 民族地区转移支付补助收入 | AT4: 调整工资转移支付补助收入 | AU4: 农村税费改革补助收入 | AV4: 县级基本财力保障机制奖补资金收入 | AW4: 结算补助收入 | AX4: 化解债务补助收入 | AY4: 资源枯竭型城市转移支付补助收入 | AZ4: 企事业单位划转补助收入 | BA4: 成品油价格和税费改革转移支付补助收入 | BB4: 工商部门停征两费转移支付收入 | BC4: 一般公共服务转移支付收入 | BD4: 公共安全转移支付收入 | BE4: 教育转移支付收入 | BF4: 社会保障和就业转移支付收入 | BG4: 医疗卫生转移支付收入 | BH4: 农林水转移支付收入 | BI4: 产粮（油）大县奖励资金收入 | BJ4: 重点生态功能区转移支付收入 | BK4: 其他一般性转移支付收入 | BL4: 专项转移支付收入 | BM4: 一般公共服务 | BN4: 外交 | BO4: 国防 | BP4: 公共安全 | BQ4: 教育 | BR4: 科学技术 | BS4: 文化体育与传媒 | BT4: 社会保障和就业 | BU4: 医疗卫生与计划生育 | BV4: 节能环保 | BW4: 城乡社区 | BX4: 农林水 | BY4: 交通运输 | BZ4: 资源勘探信息等 | CA4: 商业服务业等 | CB4: 金融 | CC4: 国土海洋气象等 | CD4: 住房保障 | CE4: 粮油物资储备 | CF4: 其他收入 | CG4: 下级上解收入 | CH4: 体制上解收入 | CI4: 出口退税专项上解收入 | CJ4: 成品油价格和税费改革专项上解收入 | CK4: 专项上解收入 | CM4: 上年结余收入 | CN4: 上年结转 | CO4: 净结余 | CP4: 调入资金 | CQ4: 地震灾后恢复重建调入资金 | CR4: 转贷财政部代理发行地方政府债券收入 | CT4: 收入总计
B5: 盐边县合计
B6: 盐边县本级
B7: 盐边县乡级
A8: 3 | B8: 桐子林镇
A9: 3 | B9: 渔门镇
A10: 3 | B10: 红格镇
A11: 3 | B11: 永兴镇
A12: 3 | B12: 益民乡
A13: 3 | B13: 新九乡
A14: 3 | B14: 和爱乡
A15: 3 | B15: 红果乡
A16: 3 | B16: 鱤鱼乡
A17: 3 | B17: 共和乡
A18: 3 | B18: 国胜乡
A19: 3 | B19: 红宝乡 | AI19: =AP19+AR19+BK19+BL19 -> 674.75 | AP19: 390.75 | AR19: 71.51 | BK19: 124.71 | BL19: 87.78
A20: 3 | B20: 惠民乡
A21: 3 | B21: 箐河乡
A22: 3 | B22: 温泉乡
A23: 3 | B23: 格萨拉乡

Sheet 表八
B1: 表八：
B2: 2019年公共财政预算支出分级表
A3: 单位：万元
B4: 地区 | C4: 一、一般公共服务 | D4: 人大事务 | E4: 政协事务 | F4: 政府办公厅(室)及相关机构事务 | G4: 发展与改革事务 | H4: 统计信息事务 | I4: 财政事务 | J4: 税收事务 | K4: 审计事务 | L4: 海关事务 | M4: 人力资源事务 | N4: 纪检监察事务 | O4: 商贸事务 | P4: 知识产权事务 | Q4: 工商行政管理事务 | R4: 质量技术监督与检验检疫事务 | S4: 民族事务 | T4: 宗教事务 | U4: 港澳台侨事务 | V4: 档案事务 | W4: 民主党派及工商联事务 | X4: 群众团体事务 | Y4: 党委办公厅（室）及相关机构事务 | Z4: 组织事务 | AA4: 宣传事务 | AB4: 统战事务 | AC4: 对外联络事务 | AD4: 其他共产党事务支出 | AE4: 其他一般公共服务支出 | AF4: 二、外交 | AG4: 对外合作与交流 | AH4: 其他外交支出 | AI4: 三、国防 | AJ4: 民兵 | AK4: 国防动员 | AL4: 其他国防支出 | AM4: 四、公共安全 | AN4: 武装警察 | AO4: 公安 | AP4: 国家安全 | AQ4: 检察 | AR4: 法院 | AS4: 司法 | AT4: 监狱 | AU4: 强制隔离戒毒 | AV4: 国家保密 | AW4: 缉私警察 | AX4: 其他公共安全支出 | AY4: 五、教育 | AZ4: 教育管理事务 | BA4: 普通教育 | BB4: 职业教育 | BC4: 成人教育 | BD4: 广播电视教育 | BE4: 留学教育 | BF4: 特殊教育 | BG4: 进修及培训 | BH4: 教育费附加安排的支出 | BI4: 其他教育支出 | BJ4: 六、科学技术 | BK4: 科学技术管理事务 | BL4: 基础研究 | BM4: 应用研究 | BN4: 技术研究与开发 | BO4: 科技条件与服务 | BP4: 社会科学 | BQ4: 科学技术普及 | BR4: 科技交流与合作 | BS4: 科技重大专项 | BT4: 其他科学技术支出 | BU4: 七、文化体育与传媒 | BV4: 文化 | BW4: 文物 | BX4: 体育 | BY4: 广播影视 | BZ4: 新闻出版 | CA4: 其他文化体育与传媒支出 | CB4: 八、社会保障和就业 | CC4: 人力资源和社会保障管理事务 | CD4: 民政管理事务 | CE4: 财政对社会保险基金的补助 | CF4: 行政事业单位离退休 | CG4: 企业改革补助 | CH4: 就业补助 | CI4: 抚恤 | CJ4: 退役安置 | CK4: 社会福利 | CL4: 残疾人事业 | CM4: 自然灾害生活救助 | CN4: 红十字事业 | CO4: 最低生活保障 | CP4: 临时救助 | CQ4: 特困人员供养 | CR4: 补充道路交通事故社会救助基金 | CS4: 其他生活救助 | CT4: 其他社会保障和就业支出 | CU4: 九、医疗卫生与计划生育 | CV4: 医疗卫生与计划生育管理事务 | CW4: 公立医院 | CX4: 基层医疗卫生机构 | CY4: 公共卫生 | CZ4: 医疗保障 | DA4: 中医药 | DB4: 计划生育事务 | DC4: 食品和药品监督管理事务 | DD4: 其他医疗卫生支出 | DE4: 十、节能环保 | DF4: 环境保护管理事务 | DG4: 环境监测与监察 | DH4: 污染防治 | DI4: 自然生态保护 | DJ4: 天然林保护 | DK4: 退耕还林 | DL4: 风沙荒漠治理 | DM4: 退牧还草 | DN4: 已垦草原退耕还草 | DO4: 能源节约利用 | DP4: 污染减排 | DQ4: 可再生能源 | DR4: 循环经济 | DS4: 能源管理事务 | DT4: 江河湖库流域治理与保护 | DU4: 其他节能环保支出 | DV4: 十一、城乡社区事务 | DW4: 城乡社区管理事务 | DX4: 城乡社区规划与管理 | DY4: 城乡社区公共设施 | DZ4: 城乡社区环境卫生 | EA4: 建设市场管理与监督 | EB4: 其他城乡社区事务支出 | EC4: 十二、农林水 | ED4: 农业 | EE4: 林业 | EF4: 水利 | EG4: 南水北调 | EH4: 扶贫 | EI4: 农业综合开发 | EJ4: 农村综合改革 | EK4: 促进金融支农支出 | EL4: 目标价格补贴 | EM4: 其他农林水支出 | EN4: 十三、交通运输 | EO4: 公路水路运输 | EP4: 铁路运输 | EQ4: 民用航空运输 | ER4: 石油价格改革对交通运输的补贴 | ES4: 邮政业支出 | ET4: 车辆购置税支出 | EU4: 其他交通运输支出 | EV4: 十四、资源勘探信息等 | EW4: 资源勘探开发和服务支出 | EX4: 制造业 | EY4: 建筑业 | EZ4: 工业和信息产业监管支出 | FA4: 安全生产监管 | FB4: 国有资产监管 | FC4: 支持中小企业发展和管理支出 | FD4: 其他资源勘探信息等事务 | FE4: 十五、商业服务业等 | FF4: 商业流通事务 | FG4: 旅游业管理与服务支出 | FH4: 涉外发展服务支出 | FI4: 其他商业服务业等事务支出 | FJ4: 十六、金融支出 | FK4: 其他金融监管等事务支出 | FL4: 十七、援助其他地区 | FM4: 一般公共服务 | FN4: 教育 | FO4: 文化体育与传媒 | FP4: 医疗卫生 | FQ4: 节能环保 | FR4: 农业 | FS4: 交通运输 | FT4: 住房保障 | FU4: 其他支出 | FV4: 十八、国土海洋气象等 | FW4: 国土资源事务 | FX4: 海洋管理事务 | FY4: 测绘事务 | FZ4: 地震事务 | GA4: 气象事务 | GB4: 其他国土资源气象等事务支出 | GC4: 十九、住房保障支出 | GD4: 保障性安居工程支出 | GE4: 住房改革支出 | GF4: 城乡社区住宅 | GG4: 二十、粮油物资储备事务 | GH4: 粮油事务 | GI4: 物资事务 | GJ4: 能源储备 | GK4: 粮油储备 | GL4: 重要商品储备 | GM4: 二十一、预备费 | GN4: 二十二、国债还本付息支出 | GO4: 国内债务还本 | GP4: 向外国政府借款还本 | GQ4: 向国际组织借款还本 | GR4: 地方向国外借款还本 | GS4: 国内债务付息 | GT4: 国外债务付息 | GU4: 补充还贷准备金 | GV4: 地方政府债券还本 | GW4: 地方政府债务付息 | GX4: 二十三、其他支出 | GY4: 年初预留 | GZ4: 其他支出 | HA4: 支出合计 | HB4: 其中：当年财力安排的支出
B5: 盐边县合计
B6: 盐边县本级
B7: 盐边县乡级
A8: 3 | B8: 桐子林镇
A9: 3 | B9: 渔门镇
A10: 3 | B10: 红格镇
A11: 3 | B11: 永兴镇
A12: 3 | B12: 益民乡
A13: 3 | B13: 新九乡
A14: 3 | B14: 和爱乡
A15: 3 | B15: 红果乡
A16: 3 | B16: 鱤鱼乡
A17: 3 | B17: 共和乡
A18: 3 | B18: 国胜乡
A19: 3 | B19: 红宝乡 | C19: =表一!E6 -> 242.1 | D19: =表一!E7 -> 15.31 | F19: =表一!E28 -> 187.22 | I19: =表一!E63 -> 16 | Y19: =表一!E219 -> 23.57 | BV19: =表一!E491 -> 9.17 | CB19: =表一!E546 -> 123.37 | CQ19: =表一!E654 -> 61.27 | EC19: =表一!E824 -> 223.54 | ED19: =表一!E829 -> 79.94 | EJ19: =表一!E942 -> 143.6 | GE19: =表一!E1226 -> 43.91 | GY19: 21.66 | GZ19: 11 | HA19: =表一!E1398 -> 674.75
A20: 3 | B20: 惠民乡
A21: 3 | B21: 箐河乡
A22: 3 | B22: 温泉乡
A23: 3 | B23: 格萨拉乡

Sheet 表八 (续)
B1: 表八（续）
B2: 2019年公共财政预算支出分级表（续）
A3: 单位：万元
B4: 地区 | C4: 转移性支出 | D4: 上解上级支出 | E4: 体制上解支出 | F4: 出口退税专项上解支出 | G4: 成品油价格和税费改革专项上解支出 | H4: 专项上解支出 | I4: 补助下级支出 | J4: 返还性支出 | K4: 增值税和消费税税收返还支出 | L4: 所得税基数返还支出 | M4: 成品油价格和税费改革税收返还支出 | N4: 其他税收返还支出 | O4: 一般性转移支付 | P4: 体制补助支出 | Q4: 均衡性转移支付支出 | R4: 民族地区转移支付支出 | S4: 调整工资转移支付支出 | T4: 农村税费改革转移支付支出 | U4: 县级基本财力保障机制奖补资金支出 | V4: 结算补助支出 | W4: 化解债务补助支出 | X4: 资源枯竭型城市转移支付补助支出 | Y4: 企事业单位划转补助支出 | Z4: 成品油价格和税费改革转移支付补助支出 | AA4: 工商部门停征两费转移支付支出 | AB4: 一般公共服务转移支付支出 | AC4: 公共安全转移支付支出 | AD4: 教育转移支付支出 | AE4: 社会保障和就业转移支付支出 | AF4: 医疗卫生转移支付支出 | AG4: 农林水转移支付支出 | AH4: 产粮（油）大县奖励资金支出 | AI4: 重点生态功能区转移支付支出 | AJ4: 其他一般性转移支付支出 | AK4: 专项转移支付支出 | AL4: 一般公共服务 | AM4: 外交 | AN4: 国防 | AO4: 公共安全 | AP4: 教育 | AQ4: 科学技术 | AR4: 文化体育与传媒 | AS4: 社会保障和就业 | AT4: 医疗卫生 | AU4: 节能环保 | AV4: 城乡社区 | AW4: 农林水 | AX4: 交通运输 | AY4: 资源勘探电力信息等 | AZ4: 商业服务业等事务 | BA4: 金融 | BB4: 国土海洋气象等 | BC4: 住房保障 | BD4: 粮油物资储备事务 | BE4: 其他支出 | BF4: 转贷财政部代理发行地方政府债券支出 | BH4: 调出资金 | BI4: 年终结余 | BJ4: 结转 | BK4: 净结余 | BP4: 支出总计
B5: 盐边县合计
B6: 盐边县本级
B7: 盐边县乡级
A8: 3 | B8: 桐子林镇
A9: 3 | B9: 渔门镇
A10: 3 | B10: 红格镇
A11: 3 | B11: 永兴镇
A12: 3 | B12: 益民乡
A13: 3 | B13: 新九乡
A14: 3 | B14: 和爱乡
A15: 3 | B15: 红果乡
A16: 3 | B16: 鱤鱼乡
A17: 3 | B17: 共和乡
A18: 3 | B18: 国胜乡
A19: 3 | B19: 红宝乡 | O19: 390.75 | Q19: 71.51 | AK19: 87.78 | AW19: 124.71 | BP19: =表一!E1398 -> 674.75
A20: 3 | B20: 惠民乡
A21: 3 | B21: 箐河乡
A22: 3 | B22: 温泉乡
A23: 3 | B23: 格萨拉乡

Sheet 表九
B1: 表九
B2: 2019年公共财政预算支出经济分类情况表
B3: 单位：万元
B4: 地区 | C4: 总计 | D4: 工资福利支出 | E4: 商品和服务支出 | F4: 对个人和家庭的补助 | G4: 对企事业单位的补贴 | H4: 转移性支出 | I4: 赠与 | J4: 债务利息支出 | K4: 债务还本支出 | L4: 基本建设支出 | M4: 其他资本性支出 | N4: 贷款转贷及产权参股 | O4: 其他支出 | P4: 备注
B5: 盐边县合计
B6: 盐边县本级
B7: 盐边县乡级
A8: 3 | B8: 桐子林镇
A9: 3 | B9: 渔门镇
A10: 3 | B10: 红格镇
A11: 3 | B11: 永兴镇
A12: 3 | B12: 益民乡
A13: 3 | B13: 新九乡
A14: 3 | B14: 和爱乡
A15: 3 | B15: 红果乡
A16: 3 | B16: 鱤鱼乡
A17: 3 | B17: 共和乡
A18: 3 | B18: 国胜乡
A19: 3 | B19: 红宝乡 | C19: =SUM(D19:P19) -> 674.75 | D19: 382.87 | E19: 67.63 | F19: 12.48 | O19: 211.77
A20: 3 | B20: 惠民乡
A21: 3 | B21: 箐河乡
A22: 3 | B22: 温泉乡
A23: 3 | B23: 格萨拉乡

Sheet 表十
B1: 表十
B2: 2019年公共财政预算支出保障序列分级表
B3: 单位：万元
B4: 地 区 | C4: 支出合计 | D4: 基本保障支出 | T4: 保民生支出（元） | U4: 促进发展支出（元）
D5: 小计（元） | E5: 人员支出 | Q5: 运转支出
E6: 财政供养人员（人） | I6: 在职（人/元/年） | M6: 离退休（人/元/年） | Q6: 小计（元） | R6: 在职人员公用经费标准（人/元/年）
E7: 在职 | G7: 离退休 | I7: 行政 | K7: 事业 | M7: 行政 | O7: 事业 | R7: 行政 | S7: 事业
E8: 行政 | F8: 事业 | G8: 行政 | H8: 事业 | I8: 基本工资标准 | J8: 津贴补贴标准 | K8: 基本工资标准 | L8: 绩效工资标准 | M8: 基本工资标准 | N8: 津贴补贴标准 | O8: 基本工资标准 | P8: 绩效工资标准
B9: 盐边县合计
B10: 盐边县本级
B11: 盐边县乡级
A12: 3 | B12: 桐子林镇
A13: 3 | B13: 渔门镇
A14: 3 | B14: 红格镇
A15: 3 | B15: 永兴镇
A16: 3 | B16: 益民乡
A17: 3 | B17: 新九乡
A18: 3 | B18: 和爱乡
A19: 3 | B19: 红果乡
A20: 3 | B20: 鱤鱼乡
A21: 3 | B21: 共和乡
A22: 3 | B22: 国胜乡
A23: 3 | B23: 红宝乡 | E23: 16 | F23: 14 | G23: 12 | H23: 3 | I23: 36816 | J23: 40712 | K23: 32838 | L23: 43035 | R23: 192000 | S23: 168000 | T23: =I23*16+J23*16+K23*14+L23*14 -> 2302670 | U23: =R23+S23 -> 360000
A24: 3 | B24: 惠民乡
A25: 3 | B25: 箐河乡
A26: 3 | B26: 温泉乡
A27: 3 | B27: 格萨拉乡
